BEGIN:VCALENDAR
VERSION:2.0
PRODID:-//Calendar of Events - ECPv6.15.20//NONSGML v1.0//EN
CALSCALE:GREGORIAN
METHOD:PUBLISH
X-WR-CALNAME:Calendar of Events
X-ORIGINAL-URL:https://uvaalumni.org/calendar
X-WR-CALDESC:Events for Calendar of Events
REFRESH-INTERVAL;VALUE=DURATION:PT1H
X-Robots-Tag:noindex
X-PUBLISHED-TTL:PT1H
BEGIN:VTIMEZONE
TZID:America/New_York
BEGIN:DAYLIGHT
TZOFFSETFROM:-0500
TZOFFSETTO:-0400
TZNAME:EDT
DTSTART:20270314T070000
END:DAYLIGHT
BEGIN:STANDARD
TZOFFSETFROM:-0400
TZOFFSETTO:-0500
TZNAME:EST
DTSTART:20271107T060000
END:STANDARD
BEGIN:DAYLIGHT
TZOFFSETFROM:-0500
TZOFFSETTO:-0400
TZNAME:EDT
DTSTART:20280312T070000
END:DAYLIGHT
BEGIN:STANDARD
TZOFFSETFROM:-0400
TZOFFSETTO:-0500
TZNAME:EST
DTSTART:20281105T060000
END:STANDARD
BEGIN:DAYLIGHT
TZOFFSETFROM:-0500
TZOFFSETTO:-0400
TZNAME:EDT
DTSTART:20290311T070000
END:DAYLIGHT
BEGIN:STANDARD
TZOFFSETFROM:-0400
TZOFFSETTO:-0500
TZNAME:EST
DTSTART:20291104T060000
END:STANDARD
END:VTIMEZONE
BEGIN:VEVENT
DTSTART;TZID=America/New_York:20280105T110000
DTEND;TZID=America/New_York:20280105T120000
DTSTAMP:20260419T084833
CREATED:20260317T165118Z
LAST-MODIFIED:20260323T194021Z
UID:10000301-1830682800-1830686400@uvaalumni.org
SUMMARY:College Compass Office Hours
DESCRIPTION:Want to reconnect? Drop in and “see” us! Our team will be hosting virtual office hours every week to field your questions and provide advice. No need to reserve a spot—just show up! \nJoin
URL:https://uvaalumni.org/calendar/event/college-compass-office-hours/2028-01-05/
CATEGORIES:College Compass
ORGANIZER;CN="UVA Alumni Association":MAILTO:alumni-assoc@virginia.edu
LOCATION:https://virginia.zoom.us/j/91253166090?pwd=xaJkPvKfJceLXM5RvRGfao8TWbEoko.1#success
END:VEVENT
BEGIN:VEVENT
DTSTART;TZID=America/New_York:20280112T110000
DTEND;TZID=America/New_York:20280112T120000
DTSTAMP:20260419T084833
CREATED:20260317T165118Z
LAST-MODIFIED:20260323T194021Z
UID:10000302-1831287600-1831291200@uvaalumni.org
SUMMARY:College Compass Office Hours
DESCRIPTION:Want to reconnect? Drop in and “see” us! Our team will be hosting virtual office hours every week to field your questions and provide advice. No need to reserve a spot—just show up! \nJoin
URL:https://uvaalumni.org/calendar/event/college-compass-office-hours/2028-01-12/
CATEGORIES:College Compass
ORGANIZER;CN="UVA Alumni Association":MAILTO:alumni-assoc@virginia.edu
LOCATION:https://virginia.zoom.us/j/91253166090?pwd=xaJkPvKfJceLXM5RvRGfao8TWbEoko.1#success
END:VEVENT
BEGIN:VEVENT
DTSTART;TZID=America/New_York:20280119T110000
DTEND;TZID=America/New_York:20280119T120000
DTSTAMP:20260419T084833
CREATED:20260317T165118Z
LAST-MODIFIED:20260323T194021Z
UID:10000303-1831892400-1831896000@uvaalumni.org
SUMMARY:College Compass Office Hours
DESCRIPTION:Want to reconnect? Drop in and “see” us! Our team will be hosting virtual office hours every week to field your questions and provide advice. No need to reserve a spot—just show up! \nJoin
URL:https://uvaalumni.org/calendar/event/college-compass-office-hours/2028-01-19/
CATEGORIES:College Compass
ORGANIZER;CN="UVA Alumni Association":MAILTO:alumni-assoc@virginia.edu
LOCATION:https://virginia.zoom.us/j/91253166090?pwd=xaJkPvKfJceLXM5RvRGfao8TWbEoko.1#success
END:VEVENT
BEGIN:VEVENT
DTSTART;TZID=America/New_York:20280126T110000
DTEND;TZID=America/New_York:20280126T120000
DTSTAMP:20260419T084833
CREATED:20260317T165118Z
LAST-MODIFIED:20260323T194021Z
UID:10000304-1832497200-1832500800@uvaalumni.org
SUMMARY:College Compass Office Hours
DESCRIPTION:Want to reconnect? Drop in and “see” us! Our team will be hosting virtual office hours every week to field your questions and provide advice. No need to reserve a spot—just show up! \nJoin
URL:https://uvaalumni.org/calendar/event/college-compass-office-hours/2028-01-26/
CATEGORIES:College Compass
ORGANIZER;CN="UVA Alumni Association":MAILTO:alumni-assoc@virginia.edu
LOCATION:https://virginia.zoom.us/j/91253166090?pwd=xaJkPvKfJceLXM5RvRGfao8TWbEoko.1#success
END:VEVENT
BEGIN:VEVENT
DTSTART;TZID=America/New_York:20280202T110000
DTEND;TZID=America/New_York:20280202T120000
DTSTAMP:20260419T084833
CREATED:20260317T165118Z
LAST-MODIFIED:20260323T194021Z
UID:10000305-1833102000-1833105600@uvaalumni.org
SUMMARY:College Compass Office Hours
DESCRIPTION:Want to reconnect? Drop in and “see” us! Our team will be hosting virtual office hours every week to field your questions and provide advice. No need to reserve a spot—just show up! \nJoin
URL:https://uvaalumni.org/calendar/event/college-compass-office-hours/2028-02-02/
CATEGORIES:College Compass
ORGANIZER;CN="UVA Alumni Association":MAILTO:alumni-assoc@virginia.edu
LOCATION:https://virginia.zoom.us/j/91253166090?pwd=xaJkPvKfJceLXM5RvRGfao8TWbEoko.1#success
END:VEVENT
BEGIN:VEVENT
DTSTART;TZID=America/New_York:20280209T110000
DTEND;TZID=America/New_York:20280209T120000
DTSTAMP:20260419T084833
CREATED:20260317T165118Z
LAST-MODIFIED:20260323T194021Z
UID:10000306-1833706800-1833710400@uvaalumni.org
SUMMARY:College Compass Office Hours
DESCRIPTION:Want to reconnect? Drop in and “see” us! Our team will be hosting virtual office hours every week to field your questions and provide advice. No need to reserve a spot—just show up! \nJoin
URL:https://uvaalumni.org/calendar/event/college-compass-office-hours/2028-02-09/
CATEGORIES:College Compass
ORGANIZER;CN="UVA Alumni Association":MAILTO:alumni-assoc@virginia.edu
LOCATION:https://virginia.zoom.us/j/91253166090?pwd=xaJkPvKfJceLXM5RvRGfao8TWbEoko.1#success
END:VEVENT
BEGIN:VEVENT
DTSTART;TZID=America/New_York:20280216T110000
DTEND;TZID=America/New_York:20280216T120000
DTSTAMP:20260419T084833
CREATED:20260317T165118Z
LAST-MODIFIED:20260323T194021Z
UID:10000307-1834311600-1834315200@uvaalumni.org
SUMMARY:College Compass Office Hours
DESCRIPTION:Want to reconnect? Drop in and “see” us! Our team will be hosting virtual office hours every week to field your questions and provide advice. No need to reserve a spot—just show up! \nJoin
URL:https://uvaalumni.org/calendar/event/college-compass-office-hours/2028-02-16/
CATEGORIES:College Compass
ORGANIZER;CN="UVA Alumni Association":MAILTO:alumni-assoc@virginia.edu
LOCATION:https://virginia.zoom.us/j/91253166090?pwd=xaJkPvKfJceLXM5RvRGfao8TWbEoko.1#success
END:VEVENT
BEGIN:VEVENT
DTSTART;TZID=America/New_York:20280223T110000
DTEND;TZID=America/New_York:20280223T120000
DTSTAMP:20260419T084833
CREATED:20260317T165118Z
LAST-MODIFIED:20260323T194021Z
UID:10000308-1834916400-1834920000@uvaalumni.org
SUMMARY:College Compass Office Hours
DESCRIPTION:Want to reconnect? Drop in and “see” us! Our team will be hosting virtual office hours every week to field your questions and provide advice. No need to reserve a spot—just show up! \nJoin
URL:https://uvaalumni.org/calendar/event/college-compass-office-hours/2028-02-23/
CATEGORIES:College Compass
ORGANIZER;CN="UVA Alumni Association":MAILTO:alumni-assoc@virginia.edu
LOCATION:https://virginia.zoom.us/j/91253166090?pwd=xaJkPvKfJceLXM5RvRGfao8TWbEoko.1#success
END:VEVENT
BEGIN:VEVENT
DTSTART;TZID=America/New_York:20280301T110000
DTEND;TZID=America/New_York:20280301T120000
DTSTAMP:20260419T084833
CREATED:20260317T165118Z
LAST-MODIFIED:20260323T194021Z
UID:10000309-1835521200-1835524800@uvaalumni.org
SUMMARY:College Compass Office Hours
DESCRIPTION:Want to reconnect? Drop in and “see” us! Our team will be hosting virtual office hours every week to field your questions and provide advice. No need to reserve a spot—just show up! \nJoin
URL:https://uvaalumni.org/calendar/event/college-compass-office-hours/2028-03-01/
CATEGORIES:College Compass
ORGANIZER;CN="UVA Alumni Association":MAILTO:alumni-assoc@virginia.edu
LOCATION:https://virginia.zoom.us/j/91253166090?pwd=xaJkPvKfJceLXM5RvRGfao8TWbEoko.1#success
END:VEVENT
BEGIN:VEVENT
DTSTART;TZID=America/New_York:20280308T110000
DTEND;TZID=America/New_York:20280308T120000
DTSTAMP:20260419T084833
CREATED:20260317T165118Z
LAST-MODIFIED:20260323T194021Z
UID:10000310-1836126000-1836129600@uvaalumni.org
SUMMARY:College Compass Office Hours
DESCRIPTION:Want to reconnect? Drop in and “see” us! Our team will be hosting virtual office hours every week to field your questions and provide advice. No need to reserve a spot—just show up! \nJoin
URL:https://uvaalumni.org/calendar/event/college-compass-office-hours/2028-03-08/
CATEGORIES:College Compass
ORGANIZER;CN="UVA Alumni Association":MAILTO:alumni-assoc@virginia.edu
LOCATION:https://virginia.zoom.us/j/91253166090?pwd=xaJkPvKfJceLXM5RvRGfao8TWbEoko.1#success
END:VEVENT
BEGIN:VEVENT
DTSTART;TZID=America/New_York:20280315T110000
DTEND;TZID=America/New_York:20280315T120000
DTSTAMP:20260419T084833
CREATED:20260317T165118Z
LAST-MODIFIED:20260323T194021Z
UID:10000311-1836730800-1836734400@uvaalumni.org
SUMMARY:College Compass Office Hours
DESCRIPTION:Want to reconnect? Drop in and “see” us! Our team will be hosting virtual office hours every week to field your questions and provide advice. No need to reserve a spot—just show up! \nJoin
URL:https://uvaalumni.org/calendar/event/college-compass-office-hours/2028-03-15/
CATEGORIES:College Compass
ORGANIZER;CN="UVA Alumni Association":MAILTO:alumni-assoc@virginia.edu
LOCATION:https://virginia.zoom.us/j/91253166090?pwd=xaJkPvKfJceLXM5RvRGfao8TWbEoko.1#success
END:VEVENT
BEGIN:VEVENT
DTSTART;TZID=America/New_York:20280322T110000
DTEND;TZID=America/New_York:20280322T120000
DTSTAMP:20260419T084833
CREATED:20260317T165118Z
LAST-MODIFIED:20260323T194021Z
UID:10000312-1837335600-1837339200@uvaalumni.org
SUMMARY:College Compass Office Hours
DESCRIPTION:Want to reconnect? Drop in and “see” us! Our team will be hosting virtual office hours every week to field your questions and provide advice. No need to reserve a spot—just show up! \nJoin
URL:https://uvaalumni.org/calendar/event/college-compass-office-hours/2028-03-22/
CATEGORIES:College Compass
ORGANIZER;CN="UVA Alumni Association":MAILTO:alumni-assoc@virginia.edu
LOCATION:https://virginia.zoom.us/j/91253166090?pwd=xaJkPvKfJceLXM5RvRGfao8TWbEoko.1#success
END:VEVENT
BEGIN:VEVENT
DTSTART;TZID=America/New_York:20280329T110000
DTEND;TZID=America/New_York:20280329T120000
DTSTAMP:20260419T084833
CREATED:20260317T165118Z
LAST-MODIFIED:20260323T194021Z
UID:10000313-1837940400-1837944000@uvaalumni.org
SUMMARY:College Compass Office Hours
DESCRIPTION:Want to reconnect? Drop in and “see” us! Our team will be hosting virtual office hours every week to field your questions and provide advice. No need to reserve a spot—just show up! \nJoin
URL:https://uvaalumni.org/calendar/event/college-compass-office-hours/2028-03-29/
CATEGORIES:College Compass
ORGANIZER;CN="UVA Alumni Association":MAILTO:alumni-assoc@virginia.edu
LOCATION:https://virginia.zoom.us/j/91253166090?pwd=xaJkPvKfJceLXM5RvRGfao8TWbEoko.1#success
END:VEVENT
BEGIN:VEVENT
DTSTART;TZID=America/New_York:20280405T110000
DTEND;TZID=America/New_York:20280405T120000
DTSTAMP:20260419T084833
CREATED:20260317T165118Z
LAST-MODIFIED:20260323T194021Z
UID:10000314-1838545200-1838548800@uvaalumni.org
SUMMARY:College Compass Office Hours
DESCRIPTION:Want to reconnect? Drop in and “see” us! Our team will be hosting virtual office hours every week to field your questions and provide advice. No need to reserve a spot—just show up! \nJoin
URL:https://uvaalumni.org/calendar/event/college-compass-office-hours/2028-04-05/
CATEGORIES:College Compass
ORGANIZER;CN="UVA Alumni Association":MAILTO:alumni-assoc@virginia.edu
LOCATION:https://virginia.zoom.us/j/91253166090?pwd=xaJkPvKfJceLXM5RvRGfao8TWbEoko.1#success
END:VEVENT
BEGIN:VEVENT
DTSTART;TZID=America/New_York:20280412T110000
DTEND;TZID=America/New_York:20280412T120000
DTSTAMP:20260419T084833
CREATED:20260317T165118Z
LAST-MODIFIED:20260323T194021Z
UID:10000315-1839150000-1839153600@uvaalumni.org
SUMMARY:College Compass Office Hours
DESCRIPTION:Want to reconnect? Drop in and “see” us! Our team will be hosting virtual office hours every week to field your questions and provide advice. No need to reserve a spot—just show up! \nJoin
URL:https://uvaalumni.org/calendar/event/college-compass-office-hours/2028-04-12/
CATEGORIES:College Compass
ORGANIZER;CN="UVA Alumni Association":MAILTO:alumni-assoc@virginia.edu
LOCATION:https://virginia.zoom.us/j/91253166090?pwd=xaJkPvKfJceLXM5RvRGfao8TWbEoko.1#success
END:VEVENT
BEGIN:VEVENT
DTSTART;TZID=America/New_York:20280419T110000
DTEND;TZID=America/New_York:20280419T120000
DTSTAMP:20260419T084833
CREATED:20260317T165118Z
LAST-MODIFIED:20260323T194021Z
UID:10000316-1839754800-1839758400@uvaalumni.org
SUMMARY:College Compass Office Hours
DESCRIPTION:Want to reconnect? Drop in and “see” us! Our team will be hosting virtual office hours every week to field your questions and provide advice. No need to reserve a spot—just show up! \nJoin
URL:https://uvaalumni.org/calendar/event/college-compass-office-hours/2028-04-19/
CATEGORIES:College Compass
ORGANIZER;CN="UVA Alumni Association":MAILTO:alumni-assoc@virginia.edu
LOCATION:https://virginia.zoom.us/j/91253166090?pwd=xaJkPvKfJceLXM5RvRGfao8TWbEoko.1#success
END:VEVENT
BEGIN:VEVENT
DTSTART;TZID=America/New_York:20280426T110000
DTEND;TZID=America/New_York:20280426T120000
DTSTAMP:20260419T084833
CREATED:20260317T165118Z
LAST-MODIFIED:20260323T194021Z
UID:10000317-1840359600-1840363200@uvaalumni.org
SUMMARY:College Compass Office Hours
DESCRIPTION:Want to reconnect? Drop in and “see” us! Our team will be hosting virtual office hours every week to field your questions and provide advice. No need to reserve a spot—just show up! \nJoin
URL:https://uvaalumni.org/calendar/event/college-compass-office-hours/2028-04-26/
CATEGORIES:College Compass
ORGANIZER;CN="UVA Alumni Association":MAILTO:alumni-assoc@virginia.edu
LOCATION:https://virginia.zoom.us/j/91253166090?pwd=xaJkPvKfJceLXM5RvRGfao8TWbEoko.1#success
END:VEVENT
BEGIN:VEVENT
DTSTART;TZID=America/New_York:20280503T110000
DTEND;TZID=America/New_York:20280503T120000
DTSTAMP:20260419T084833
CREATED:20260317T165118Z
LAST-MODIFIED:20260323T194021Z
UID:10000318-1840964400-1840968000@uvaalumni.org
SUMMARY:College Compass Office Hours
DESCRIPTION:Want to reconnect? Drop in and “see” us! Our team will be hosting virtual office hours every week to field your questions and provide advice. No need to reserve a spot—just show up! \nJoin
URL:https://uvaalumni.org/calendar/event/college-compass-office-hours/2028-05-03/
CATEGORIES:College Compass
ORGANIZER;CN="UVA Alumni Association":MAILTO:alumni-assoc@virginia.edu
LOCATION:https://virginia.zoom.us/j/91253166090?pwd=xaJkPvKfJceLXM5RvRGfao8TWbEoko.1#success
END:VEVENT
BEGIN:VEVENT
DTSTART;TZID=America/New_York:20280510T110000
DTEND;TZID=America/New_York:20280510T120000
DTSTAMP:20260419T084833
CREATED:20260317T165118Z
LAST-MODIFIED:20260323T194021Z
UID:10000319-1841569200-1841572800@uvaalumni.org
SUMMARY:College Compass Office Hours
DESCRIPTION:Want to reconnect? Drop in and “see” us! Our team will be hosting virtual office hours every week to field your questions and provide advice. No need to reserve a spot—just show up! \nJoin
URL:https://uvaalumni.org/calendar/event/college-compass-office-hours/2028-05-10/
CATEGORIES:College Compass
ORGANIZER;CN="UVA Alumni Association":MAILTO:alumni-assoc@virginia.edu
LOCATION:https://virginia.zoom.us/j/91253166090?pwd=xaJkPvKfJceLXM5RvRGfao8TWbEoko.1#success
END:VEVENT
BEGIN:VEVENT
DTSTART;TZID=America/New_York:20280517T110000
DTEND;TZID=America/New_York:20280517T120000
DTSTAMP:20260419T084833
CREATED:20260317T165118Z
LAST-MODIFIED:20260323T194021Z
UID:10000320-1842174000-1842177600@uvaalumni.org
SUMMARY:College Compass Office Hours
DESCRIPTION:Want to reconnect? Drop in and “see” us! Our team will be hosting virtual office hours every week to field your questions and provide advice. No need to reserve a spot—just show up! \nJoin
URL:https://uvaalumni.org/calendar/event/college-compass-office-hours/2028-05-17/
CATEGORIES:College Compass
ORGANIZER;CN="UVA Alumni Association":MAILTO:alumni-assoc@virginia.edu
LOCATION:https://virginia.zoom.us/j/91253166090?pwd=xaJkPvKfJceLXM5RvRGfao8TWbEoko.1#success
END:VEVENT
BEGIN:VEVENT
DTSTART;TZID=America/New_York:20280524T110000
DTEND;TZID=America/New_York:20280524T120000
DTSTAMP:20260419T084833
CREATED:20260317T165118Z
LAST-MODIFIED:20260323T194021Z
UID:10000321-1842778800-1842782400@uvaalumni.org
SUMMARY:College Compass Office Hours
DESCRIPTION:Want to reconnect? Drop in and “see” us! Our team will be hosting virtual office hours every week to field your questions and provide advice. No need to reserve a spot—just show up! \nJoin
URL:https://uvaalumni.org/calendar/event/college-compass-office-hours/2028-05-24/
CATEGORIES:College Compass
ORGANIZER;CN="UVA Alumni Association":MAILTO:alumni-assoc@virginia.edu
LOCATION:https://virginia.zoom.us/j/91253166090?pwd=xaJkPvKfJceLXM5RvRGfao8TWbEoko.1#success
END:VEVENT
BEGIN:VEVENT
DTSTART;TZID=America/New_York:20280531T110000
DTEND;TZID=America/New_York:20280531T120000
DTSTAMP:20260419T084833
CREATED:20260317T165118Z
LAST-MODIFIED:20260323T194021Z
UID:10000322-1843383600-1843387200@uvaalumni.org
SUMMARY:College Compass Office Hours
DESCRIPTION:Want to reconnect? Drop in and “see” us! Our team will be hosting virtual office hours every week to field your questions and provide advice. No need to reserve a spot—just show up! \nJoin
URL:https://uvaalumni.org/calendar/event/college-compass-office-hours/2028-05-31/
CATEGORIES:College Compass
ORGANIZER;CN="UVA Alumni Association":MAILTO:alumni-assoc@virginia.edu
LOCATION:https://virginia.zoom.us/j/91253166090?pwd=xaJkPvKfJceLXM5RvRGfao8TWbEoko.1#success
END:VEVENT
BEGIN:VEVENT
DTSTART;TZID=America/New_York:20280607T110000
DTEND;TZID=America/New_York:20280607T120000
DTSTAMP:20260419T084833
CREATED:20260317T165118Z
LAST-MODIFIED:20260323T194021Z
UID:10000323-1843988400-1843992000@uvaalumni.org
SUMMARY:College Compass Office Hours
DESCRIPTION:Want to reconnect? Drop in and “see” us! Our team will be hosting virtual office hours every week to field your questions and provide advice. No need to reserve a spot—just show up! \nJoin
URL:https://uvaalumni.org/calendar/event/college-compass-office-hours/2028-06-07/
CATEGORIES:College Compass
ORGANIZER;CN="UVA Alumni Association":MAILTO:alumni-assoc@virginia.edu
LOCATION:https://virginia.zoom.us/j/91253166090?pwd=xaJkPvKfJceLXM5RvRGfao8TWbEoko.1#success
END:VEVENT
BEGIN:VEVENT
DTSTART;TZID=America/New_York:20280614T110000
DTEND;TZID=America/New_York:20280614T120000
DTSTAMP:20260419T084833
CREATED:20260317T165118Z
LAST-MODIFIED:20260323T194021Z
UID:10000324-1844593200-1844596800@uvaalumni.org
SUMMARY:College Compass Office Hours
DESCRIPTION:Want to reconnect? Drop in and “see” us! Our team will be hosting virtual office hours every week to field your questions and provide advice. No need to reserve a spot—just show up! \nJoin
URL:https://uvaalumni.org/calendar/event/college-compass-office-hours/2028-06-14/
CATEGORIES:College Compass
ORGANIZER;CN="UVA Alumni Association":MAILTO:alumni-assoc@virginia.edu
LOCATION:https://virginia.zoom.us/j/91253166090?pwd=xaJkPvKfJceLXM5RvRGfao8TWbEoko.1#success
END:VEVENT
BEGIN:VEVENT
DTSTART;TZID=America/New_York:20280621T110000
DTEND;TZID=America/New_York:20280621T120000
DTSTAMP:20260419T084833
CREATED:20260317T165118Z
LAST-MODIFIED:20260323T194021Z
UID:10000325-1845198000-1845201600@uvaalumni.org
SUMMARY:College Compass Office Hours
DESCRIPTION:Want to reconnect? Drop in and “see” us! Our team will be hosting virtual office hours every week to field your questions and provide advice. No need to reserve a spot—just show up! \nJoin
URL:https://uvaalumni.org/calendar/event/college-compass-office-hours/2028-06-21/
CATEGORIES:College Compass
ORGANIZER;CN="UVA Alumni Association":MAILTO:alumni-assoc@virginia.edu
LOCATION:https://virginia.zoom.us/j/91253166090?pwd=xaJkPvKfJceLXM5RvRGfao8TWbEoko.1#success
END:VEVENT
BEGIN:VEVENT
DTSTART;TZID=America/New_York:20280628T110000
DTEND;TZID=America/New_York:20280628T120000
DTSTAMP:20260419T084833
CREATED:20260317T165118Z
LAST-MODIFIED:20260323T194021Z
UID:10000326-1845802800-1845806400@uvaalumni.org
SUMMARY:College Compass Office Hours
DESCRIPTION:Want to reconnect? Drop in and “see” us! Our team will be hosting virtual office hours every week to field your questions and provide advice. No need to reserve a spot—just show up! \nJoin
URL:https://uvaalumni.org/calendar/event/college-compass-office-hours/2028-06-28/
CATEGORIES:College Compass
ORGANIZER;CN="UVA Alumni Association":MAILTO:alumni-assoc@virginia.edu
LOCATION:https://virginia.zoom.us/j/91253166090?pwd=xaJkPvKfJceLXM5RvRGfao8TWbEoko.1#success
END:VEVENT
BEGIN:VEVENT
DTSTART;TZID=America/New_York:20280705T110000
DTEND;TZID=America/New_York:20280705T120000
DTSTAMP:20260419T084833
CREATED:20260317T165118Z
LAST-MODIFIED:20260323T194021Z
UID:10000327-1846407600-1846411200@uvaalumni.org
SUMMARY:College Compass Office Hours
DESCRIPTION:Want to reconnect? Drop in and “see” us! Our team will be hosting virtual office hours every week to field your questions and provide advice. No need to reserve a spot—just show up! \nJoin
URL:https://uvaalumni.org/calendar/event/college-compass-office-hours/2028-07-05/
CATEGORIES:College Compass
ORGANIZER;CN="UVA Alumni Association":MAILTO:alumni-assoc@virginia.edu
LOCATION:https://virginia.zoom.us/j/91253166090?pwd=xaJkPvKfJceLXM5RvRGfao8TWbEoko.1#success
END:VEVENT
BEGIN:VEVENT
DTSTART;TZID=America/New_York:20280712T110000
DTEND;TZID=America/New_York:20280712T120000
DTSTAMP:20260419T084833
CREATED:20260317T165118Z
LAST-MODIFIED:20260323T194021Z
UID:10000328-1847012400-1847016000@uvaalumni.org
SUMMARY:College Compass Office Hours
DESCRIPTION:Want to reconnect? Drop in and “see” us! Our team will be hosting virtual office hours every week to field your questions and provide advice. No need to reserve a spot—just show up! \nJoin
URL:https://uvaalumni.org/calendar/event/college-compass-office-hours/2028-07-12/
CATEGORIES:College Compass
ORGANIZER;CN="UVA Alumni Association":MAILTO:alumni-assoc@virginia.edu
LOCATION:https://virginia.zoom.us/j/91253166090?pwd=xaJkPvKfJceLXM5RvRGfao8TWbEoko.1#success
END:VEVENT
BEGIN:VEVENT
DTSTART;TZID=America/New_York:20280719T110000
DTEND;TZID=America/New_York:20280719T120000
DTSTAMP:20260419T084833
CREATED:20260317T165118Z
LAST-MODIFIED:20260323T194021Z
UID:10000329-1847617200-1847620800@uvaalumni.org
SUMMARY:College Compass Office Hours
DESCRIPTION:Want to reconnect? Drop in and “see” us! Our team will be hosting virtual office hours every week to field your questions and provide advice. No need to reserve a spot—just show up! \nJoin
URL:https://uvaalumni.org/calendar/event/college-compass-office-hours/2028-07-19/
CATEGORIES:College Compass
ORGANIZER;CN="UVA Alumni Association":MAILTO:alumni-assoc@virginia.edu
LOCATION:https://virginia.zoom.us/j/91253166090?pwd=xaJkPvKfJceLXM5RvRGfao8TWbEoko.1#success
END:VEVENT
BEGIN:VEVENT
DTSTART;TZID=America/New_York:20280726T110000
DTEND;TZID=America/New_York:20280726T120000
DTSTAMP:20260419T084833
CREATED:20260317T165118Z
LAST-MODIFIED:20260323T194021Z
UID:10000330-1848222000-1848225600@uvaalumni.org
SUMMARY:College Compass Office Hours
DESCRIPTION:Want to reconnect? Drop in and “see” us! Our team will be hosting virtual office hours every week to field your questions and provide advice. No need to reserve a spot—just show up! \nJoin
URL:https://uvaalumni.org/calendar/event/college-compass-office-hours/2028-07-26/
CATEGORIES:College Compass
ORGANIZER;CN="UVA Alumni Association":MAILTO:alumni-assoc@virginia.edu
LOCATION:https://virginia.zoom.us/j/91253166090?pwd=xaJkPvKfJceLXM5RvRGfao8TWbEoko.1#success
END:VEVENT
END:VCALENDAR