BEGIN:VCALENDAR
VERSION:2.0
PRODID:-//Calendar of Events - ECPv6.15.20//NONSGML v1.0//EN
CALSCALE:GREGORIAN
METHOD:PUBLISH
X-WR-CALNAME:Calendar of Events
X-ORIGINAL-URL:https://uvaalumni.org/calendar
X-WR-CALDESC:Events for Calendar of Events
REFRESH-INTERVAL;VALUE=DURATION:PT1H
X-Robots-Tag:noindex
X-PUBLISHED-TTL:PT1H
BEGIN:VTIMEZONE
TZID:America/New_York
BEGIN:DAYLIGHT
TZOFFSETFROM:-0500
TZOFFSETTO:-0400
TZNAME:EDT
DTSTART:20230312T070000
END:DAYLIGHT
BEGIN:STANDARD
TZOFFSETFROM:-0400
TZOFFSETTO:-0500
TZNAME:EST
DTSTART:20231105T060000
END:STANDARD
BEGIN:DAYLIGHT
TZOFFSETFROM:-0500
TZOFFSETTO:-0400
TZNAME:EDT
DTSTART:20240310T070000
END:DAYLIGHT
BEGIN:STANDARD
TZOFFSETFROM:-0400
TZOFFSETTO:-0500
TZNAME:EST
DTSTART:20241103T060000
END:STANDARD
BEGIN:DAYLIGHT
TZOFFSETFROM:-0500
TZOFFSETTO:-0400
TZNAME:EDT
DTSTART:20250309T070000
END:DAYLIGHT
BEGIN:STANDARD
TZOFFSETFROM:-0400
TZOFFSETTO:-0500
TZNAME:EST
DTSTART:20251102T060000
END:STANDARD
END:VTIMEZONE
BEGIN:VEVENT
DTSTART;TZID=America/New_York:20240307T083000
DTEND;TZID=America/New_York:20240307T103000
DTSTAMP:20260423T193358
CREATED:20240306T143058Z
LAST-MODIFIED:20240322T124607Z
UID:10000054-1709800200-1709807400@uvaalumni.org
SUMMARY:Tech & Innovation Trends
DESCRIPTION:With AI taking the lead\, the landscape for tech continues to evolve and result in groundbreaking advancements. Along with the continued sophistication of algorithms with machine learning and new heights of AR + VR\, 2024 will showcase transformation across multiple industries. Exciting speakers are soon to be announced! Register today and join fellow alumni for networking\, and learn about emerging and innovative tech trends from thought leaders and industry experts. We will also learn more about Deloitte’s hiring process from an experienced hire recruiter at Deloitte. Brought to you in partnership with the DC Hoos and Deloitte. \nRegister
URL:https://uvaalumni.org/calendar/event/tech-innovation-trends/
LOCATION:Deloitte\, 1919 North Lynn Street #1500\, Arlington\, VA\, 22209\, United States
CATEGORIES:Alumni Professional Networks
ORGANIZER;CN="UVA Alumni Association":MAILTO:alumni-assoc@virginia.edu
END:VEVENT
END:VCALENDAR