BEGIN:VCALENDAR
VERSION:2.0
PRODID:-//Calendar of Events - ECPv6.15.20//NONSGML v1.0//EN
CALSCALE:GREGORIAN
METHOD:PUBLISH
X-ORIGINAL-URL:https://uvaalumni.org/calendar
X-WR-CALDESC:Events for Calendar of Events
REFRESH-INTERVAL;VALUE=DURATION:PT1H
X-Robots-Tag:noindex
X-PUBLISHED-TTL:PT1H
BEGIN:VTIMEZONE
TZID:America/New_York
BEGIN:DAYLIGHT
TZOFFSETFROM:-0500
TZOFFSETTO:-0400
TZNAME:EDT
DTSTART:20250309T070000
END:DAYLIGHT
BEGIN:STANDARD
TZOFFSETFROM:-0400
TZOFFSETTO:-0500
TZNAME:EST
DTSTART:20251102T060000
END:STANDARD
BEGIN:DAYLIGHT
TZOFFSETFROM:-0500
TZOFFSETTO:-0400
TZNAME:EDT
DTSTART:20260308T070000
END:DAYLIGHT
BEGIN:STANDARD
TZOFFSETFROM:-0400
TZOFFSETTO:-0500
TZNAME:EST
DTSTART:20261101T060000
END:STANDARD
BEGIN:DAYLIGHT
TZOFFSETFROM:-0500
TZOFFSETTO:-0400
TZNAME:EDT
DTSTART:20270314T070000
END:DAYLIGHT
BEGIN:STANDARD
TZOFFSETFROM:-0400
TZOFFSETTO:-0500
TZNAME:EST
DTSTART:20271107T060000
END:STANDARD
BEGIN:DAYLIGHT
TZOFFSETFROM:-0500
TZOFFSETTO:-0400
TZNAME:EDT
DTSTART:20280312T070000
END:DAYLIGHT
BEGIN:STANDARD
TZOFFSETFROM:-0400
TZOFFSETTO:-0500
TZNAME:EST
DTSTART:20281105T060000
END:STANDARD
END:VTIMEZONE
BEGIN:VEVENT
DTSTART;VALUE=DATE:20260605
DTEND;VALUE=DATE:20260609
DTSTAMP:20260420T161026
CREATED:20250602T183038Z
LAST-MODIFIED:20260312T183424Z
UID:10000157-1780621200-1780880399@uvaalumni.org
SUMMARY:Reunions 2026
DESCRIPTION:The UVA Alumni Association is looking forward to celebrating undergraduate class years that end in -1 and -6 in 2026. All classes will be invited back to Grounds June 5–7\, 2026. \nLearn more
URL:https://uvaalumni.org/calendar/event/reunions-2026/
CATEGORIES:Reunions
ATTACH;FMTTYPE=image/jpeg:https://uvaalumni.org/calendar/wp-content/uploads/sites/48/2023/09/REU24_HeaderBanner.jpg
ORGANIZER;CN="UVA Alumni Association":MAILTO:alumni-assoc@virginia.edu
END:VEVENT
BEGIN:VEVENT
DTSTART;VALUE=DATE:20270604
DTEND;VALUE=DATE:20270608
DTSTAMP:20260420T161026
CREATED:20260312T183150Z
LAST-MODIFIED:20260312T183202Z
UID:10000206-1812070800-1812329999@uvaalumni.org
SUMMARY:Reunions 2027
DESCRIPTION:The UVA Alumni Association is looking forward to celebrating undergraduate class years that end in -2 and -7 June 4–6\, 2027. \nLearn more
URL:https://uvaalumni.org/calendar/event/reunions-2027/
CATEGORIES:Reunions
ATTACH;FMTTYPE=image/jpeg:https://uvaalumni.org/calendar/wp-content/uploads/sites/48/2023/09/REU24_HeaderBanner.jpg
ORGANIZER;CN="UVA Alumni Association":MAILTO:alumni-assoc@virginia.edu
END:VEVENT
END:VCALENDAR